Workbook

Sheet 收入支出决算总表
A1: 收入支出决算总表 | C1: 收入支出决算总表
F2: 公开01表
A3: 部门：岳阳县自然资源局 | F3: 金额单位：万元
A4: 收入 | D4: 支出
A5: 项目 | B5: 行次 | C5: 金额 | D5: 项目 | E5: 行次 | F5: 金额
A6: 栏次 | C6: 1 | D6: 栏次 | F6: 2
A7: 一、一般公共预算财政拨款收入 | B7: 1 | C7: =一般公共预算财政拨款支出决算表!E9 -> 6657.2799 | D7: 一、一般公共服务支出 | E7: 32 | F7: 0
A8: 二、政府性基金预算财政拨款收入 | B8: 2 | C8: =政府性基金预算财政拨款收入支出决算表!F7 -> 848.76716 | D8: 二、外交支出 | E8: 33
A9: 三、国有资本经营预算财政拨款收入 | B9: 3 | C9: =国有资本经营预算财政拨款支出决算表!E9 -> 10 | D9: 三、国防支出 | E9: 34
A10: 四、上级补助收入 | B10: 4 | D10: 四、公共安全支出 | E10: 35
A11: 五、事业收入 | B11: 5 | D11: 五、教育支出 | E11: 36 | F11: =支出决算表!F10 -> 183.61
A12: 六、经营收入 | B12: 6 | D12: 六、科学技术支出 | E12: 37
A13: 七、附属单位上缴收入 | B13: 7 | D13: 七、文化旅游体育与传媒支出 | E13: 38
A14: 八、其他收入 | B14: 8 | C14: =收入决算表!K9 -> 1365.7339 | D14: 八、社会保障和就业支出 | E14: 39 | F14: =支出决算表!E13 -> 373.85139
B15: 9 | D15: 九、卫生健康支出 | E15: 40 | F15: =支出决算表!E20 -> 199.05897
B16: 10 | D16: 十、节能环保支出 | E16: 41
B17: 11 | D17: 十一、城乡社区支出 | E17: 42 | F17: =支出决算表!E24 -> 539.69796
B18: 12 | D18: 十二、农林水支出 | E18: 43 | F18: 0
B19: 13 | D19: 十三、交通运输支出 | E19: 44
B20: 14 | D20: 十四、资源勘探工业信息等支出 | E20: 45
B21: 15 | D21: 十五、商业服务业等支出 | E21: 46
B22: 16 | D22: 十六、金融支出 | E22: 47
B23: 17 | D23: 十七、援助其他地区支出 | E23: 48
B24: 18 | D24: 十八、自然资源海洋气象等支出 | E24: 49 | F24: =支出决算表!E28 -> 5522.3167
B25: 19 | D25: 十九、住房保障支出 | E25: 50 | F25: =支出决算表!E34 -> 251.44291
B26: 20 | D26: 二十、粮油物资储备支出 | E26: 51
B27: 21 | D27: 二十一、国有资本经营预算支出 | E27: 52 | F27: =支出决算表!E37 -> 10
B28: 22 | D28: 二十二、灾害防治及应急管理支出 | E28: 53 | F28: =支出决算表!E40 -> 127
B29: 23 | D29: 二十三、其他支出 | E29: 54 | F29: =支出决算表!E43 -> 2039.462
B30: 24 | D30: 二十四、债务还本支出 | E30: 55
B31: 25 | D31: 二十五、债务付息支出 | E31: 56
B32: 26 | D32: 二十六、抗疫特别国债安排的支出 | E32: 57
A33: 本年收入合计 | B33: 27 | C33: =SUM(C7:C32) -> 8881.781 | D33: 本年支出合计 | E33: 58 | F33: =SUM(F7:F32) -> 9246.4399
A34: 使用非财政拨款结余 | B34: 28 | C34: =21488566.85/10000 -> 2148.8567 | D34: 结余分配 | E34: 59 | F34: =17841977.34/10000 -> 1784.1977
A35: 年初结转和结余 | B35: 29 | D35: 年末结转和结余 | E35: 60
B36: 30 | E36: 61
A37: 总计 | B37: 31 | C37: =SUM(C33:C36) -> 11030.638 | D37: 总计 | E37: 62 | F37: =SUM(F33:F36) -> 11030.638
A38: 注：1.本表反映部门本年度的总收支和年末结转结余情况。
A39: 2.本套报表金额单位转换时可能存在尾数误差。
C41: — 1 —

Sheet 收入决算表
A1: 收入决算表 | F1: 收入决算表
K2: 公开02表
A3: =收入支出决算总表!A3 -> 部门：岳阳县自然资源局 | K3: 金额单位：万元
A4: 项目 | D4: 科目名称 | E4: 本年收入合计 | F4: 财政拨款收入 | G4: 上级补助收入 | H4: 事业收入 | I4: 经营收入 | J4: 附属单位上缴收入 | K4: 其他收入
A5: 功能分类科目编码 | D5: 科目名称 | K5: 小计
A8: 栏次 | B8: 款 | C8: 项 | D8: 栏次 | E8: 1 | F8: 2 | G8: 3 | H8: 4 | I8: 5 | J8: 6 | K8: 7
A9: 合计 | D9: 合计 | E9: =SUM(F9:K9) -> 8881.781 | F9: =F10+F17+F21+F25+F28+F34+F37+F40+F43 -> 7516.0471 | G9: =G10+G17+G21+G25+G28+G34+G37+G40+G43 -> 0 | H9: =H10+H17+H21+H25+H28+H34+H37+H40+H43 -> 0 | I9: =I10+I17+I21+I25+I28+I34+I37+I40+I43 -> 0 | J9: =J10+J17+J21+J25+J28+J34+J37+J40+J43 -> 0 | K9: =K10+K17+K21+K25+K28+K34+K37+K40+K43 -> 1365.7339
A10: 208 | D10: 社会保障和就业支出 | E10: =SUM(F10:K10) -> 373.85139 | F10: =F11+F13+F15 -> 373.85139 | G10: =G11+G13+G15 -> 0 | H10: =H11+H13+H15 -> 0 | I10: =I11+I13+I15 -> 0 | J10: =J11+J13+J15 -> 0 | K10: =K11+K13+K15 -> 0
A11: 20805 | D11: 行政事业单位养老支出 | E11: =SUM(F11:K11) -> 335.25721 | F11: =F12 -> 335.25721 | G11: =G12 -> 0 | H11: =H12 -> 0 | I11: =I12 -> 0 | J11: =J12 -> 0 | K11: =K12 -> 0
A12: 2080505 | D12: 机关事业单位基本养老保险缴费支出 | E12: =SUM(F12:K12) -> 335.25721 | F12: =3352572.1/10000 -> 335.25721 | G12: 0 | H12: 0 | I12: 0 | J12: 0 | K12: 0
A13: 20808 | D13: 抚恤 | E13: =SUM(F13:K13) -> 17.6406 | F13: =F14 -> 17.6406 | G13: =G14 -> 0 | H13: =H14 -> 0 | I13: =I14 -> 0 | J13: =J14 -> 0 | K13: =K14 -> 0
A14: 2080801 | D14: 死亡抚恤 | E14: =SUM(F14:K14) -> 17.6406 | F14: =176406/10000 -> 17.6406 | G14: 0 | H14: 0 | I14: 0 | J14: 0 | K14: 0
A15: 20899 | D15: 其他社会保障和就业支出 | E15: =SUM(F15:K15) -> 20.953576 | F15: =F16 -> 20.953576 | G15: =G16 -> 0 | H15: =H16 -> 0 | I15: =I16 -> 0 | J15: =J16 -> 0 | K15: =K16 -> 0
A16: 2089999 | D16: 其他社会保障和就业支出 | E16: =SUM(F16:K16) -> 20.953576 | F16: =209535.76/10000 -> 20.953576 | G16: 0 | H16: 0 | I16: 0 | J16: 0 | K16: 0
A17: 210 | D17: 卫生健康支出 | E17: =SUM(F17:K17) -> 199.05897 | F17: =F18 -> 199.05897 | G17: =G18 -> 0 | H17: =H18 -> 0 | I17: =I18 -> 0 | J17: =J18 -> 0 | K17: =K18 -> 0
A18: 21011 | D18: 行政事业单位医疗 | E18: =SUM(F18:K18) -> 199.05897 | F18: =F19+F20 -> 199.05897 | G18: =G19 -> 0 | H18: =H19 -> 0 | I18: =I19 -> 0 | J18: =J19 -> 0 | K18: =K19 -> 0
A19: 2101101 | D19: 行政单位医疗 | E19: =SUM(F19:K19) -> 178.10539 | F19: =1781053.93/10000 -> 178.10539 | G19: 0 | H19: 0 | I19: 0 | J19: 0 | K19: 0
A20: 2101103 | D20: 公务员医疗补助 | E20: =SUM(F20:K20) -> 20.953576 | F20: =209535.76/10000 -> 20.953576 | G20: 0 | H20: 0 | I20: 0 | J20: 0 | K20: 0
A21: 212 | D21: 城乡社区支出 | E21: =SUM(F21:K21) -> 539.69796 | F21: =F22 -> 539.69796 | G21: =G22 -> 0 | H21: =H22 -> 0 | I21: =I22 -> 0 | J21: =J22 -> 0 | K21: =K22 -> 0
A22: 21208 | D22: 国有土地使用权出让收入安排的支出 | E22: =SUM(F22:K22) -> 539.69796 | F22: =SUM(F23:F24) -> 539.69796 | G22: =SUM(G23:G24) -> 0 | H22: =SUM(H23:H24) -> 0 | I22: =SUM(I23:I24) -> 0 | J22: =SUM(J23:J24) -> 0 | K22: =SUM(K23:K24) -> 0
A23: 2120802 | D23: 土地开发支出 | E23: =SUM(F23:K23) -> 66.728122 | F23: =667281.22/10000 -> 66.728122 | G23: 0 | H23: 0 | I23: 0 | J23: 0 | K23: 0
A24: 2120899 | D24: 其他国有土地使用权出让收入安排的支出 | E24: =SUM(F24:K24) -> 472.96984 | F24: =4729698.4/10000 -> 472.96984 | G24: 0 | H24: 0 | I24: 0 | J24: 0 | K24: 0
A25: 205 | D25: 教育支出 | E25: =SUM(F25:K25) -> 183.61 | F25: =F26 -> 183.61 | G25: =G26 -> 0 | H25: =H26 -> 0 | I25: =I26 -> 0 | J25: =J26 -> 0 | K25: =K26 -> 0
A26: 20502 | D26: 普通教育 | E26: =SUM(F26:K26) -> 183.61 | F26: =F27 -> 183.61 | G26: =G27 -> 0 | H26: =H27 -> 0 | I26: =I27 -> 0 | J26: =J27 -> 0 | K26: =K27 -> 0
A27: 2050299 | D27: 其他普通教育支出 | E27: =SUM(F27:K27) -> 183.61 | F27: =1836100/10000 -> 183.61 | G27: 0 | H27: 0 | I27: 0 | J27: 0 | K27: 0
A28: 220 | D28: 自然资源海洋气象等支出 | E28: =SUM(F28:K28) -> 5522.3167 | F28: =F29 -> 5522.3167 | G28: =G29 -> 0 | H28: =H29 -> 0 | I28: =I29 -> 0 | J28: =J29 -> 0 | K28: =K29 -> 0
A29: 22001 | D29: 自然资源事务 | E29: =SUM(F29:K29) -> 5522.3167 | F29: =SUM(F30:F33) -> 5522.3167 | G29: =SUM(G30:G33) -> 0 | H29: =SUM(H30:H33) -> 0 | I29: =SUM(I30:I33) -> 0 | J29: =SUM(J30:J33) -> 0 | K29: =SUM(K30:K33) -> 0
A30: 2200101 | D30: 行政运行 | E30: =SUM(F30:K30) -> 3114.0908 | F30: =31140908.04/10000 -> 3114.0908 | G30: 0 | H30: 0 | I30: 0 | J30: 0 | K30: 0
A31: 2200104 | D31: 自然资源规划及管理 | E31: =SUM(F31:K31) -> 357 | F31: =3570000/10000 -> 357 | G31: 0 | H31: 0 | I31: 0 | J31: 0 | K31: 0
A32: 2200106 | D32: 自然资源利用与保护 | E32: =SUM(F32:K32) -> 159.5861 | F32: =1595861/10000 -> 159.5861 | G32: 0 | H32: 0 | I32: 0 | J32: 0 | K32: 0
A33: 2200199 | D33: 其他自然资源事务支出 | E33: =SUM(F33:K33) -> 1891.6398 | F33: =18916397.7/10000 -> 1891.6398 | G33: 0 | H33: 0 | I33: 0 | J33: 0 | K33: 0
A34: 221 | D34: 住房保障支出 | E34: =SUM(F34:K34) -> 251.44291 | F34: =F35 -> 251.44291 | G34: =G35 -> 0 | H34: =H35 -> 0 | I34: =I35 -> 0 | J34: =J35 -> 0 | K34: =K35 -> 0
A35: 22102 | D35: 住房改革支出 | E35: =SUM(F35:K35) -> 251.44291 | F35: =F36 -> 251.44291 | G35: =G36 -> 0 | H35: =H36 -> 0 | I35: =I36 -> 0 | J35: =J36 -> 0 | K35: =K36 -> 0
A36: 2210201 | D36: 住房公积金 | E36: =SUM(F36:K36) -> 251.44291 | F36: =2514429.07/10000 -> 251.44291 | G36: 0 | H36: 0 | I36: 0 | J36: 0 | K36: 0
A37: 223 | D37: 国有资本经营预算支出 | E37: =SUM(F37:K37) -> 10 | F37: =F38 -> 10 | G37: =G38 -> 0 | H37: =H38 -> 0 | I37: =I38 -> 0 | J37: =J38 -> 0 | K37: =K38 -> 0
A38: 22399 | D38: 其他国有资本经营预算支出 | E38: =SUM(F38:K38) -> 10 | F38: =F39 -> 10 | G38: =G39 -> 0 | H38: =H39 -> 0 | I38: =I39 -> 0 | J38: =J39 -> 0 | K38: =K39 -> 0
A39: 2239999 | D39: 其他国有资本经营预算支出 | E39: =SUM(F39:K39) -> 10 | F39: =100000/10000 -> 10 | G39: 0 | H39: 0 | I39: 0 | J39: 0 | K39: 0
A40: 224 | D40: 灾害防治及应急管理支出 | E40: =SUM(F40:K40) -> 127 | F40: =F41 -> 127 | G40: =G41 -> 0 | H40: =H41 -> 0 | I40: =I41 -> 0 | J40: =J41 -> 0 | K40: =K41 -> 0
A41: 22406 | D41: 自然灾害防治 | E41: =SUM(F41:K41) -> 127 | F41: =F42 -> 127 | G41: =G42 -> 0 | H41: =H42 -> 0 | I41: =I42 -> 0 | J41: =J42 -> 0 | K41: =K42 -> 0
A42: 2240601 | D42: 地质灾害防治 | E42: =SUM(F42:K42) -> 127 | F42: =1270000/10000 -> 127 | G42: 0 | H42: 0 | I42: 0 | J42: 0 | K42: 0
...

Sheet 支出决算表
A1: 支出决算表 | F1: 支出决算表
J2: 公开03表
A3: =收入决算表!A3 -> 部门：岳阳县自然资源局 | J3: 金额单位：万元
A4: 项目 | D4: 科目名称 | E4: 本年支出合计 | F4: 基本支出 | G4: 项目支出 | H4: 上缴上级支出 | I4: 经营支出 | J4: 对附属单位补助支出
A5: 功能分类科目编码 | D5: 科目名称
A8: 栏次 | B8: 款 | C8: 项 | D8: 栏次 | E8: 1 | F8: 2 | G8: 3 | H8: 4 | I8: 5 | J8: 6
A9: 合计 | D9: 合计 | E9: =SUM(F9:J9) -> 9246.4399 | F9: =F13+F20+F24+F28+F34+F37+F40+F43+F10 -> 6250.9347 | G9: =G13+G20+G24+G28+G34+G37+G40+G43+G10 -> 2995.5052 | H9: =H13+H20+H24+H28+H34+H37+H40+H43+H10 -> 0 | I9: =I13+I20+I24+I28+I34+I37+I40+I43+I10 -> 0 | J9: =J13+J20+J24+J28+J34+J37+J40+J43+J10 -> 0
A10: 205 | D10: 教育支出 | E10: =SUM(F10:J10) -> 183.61 | F10: =F11 -> 183.61 | G10: =G11 -> 0 | H10: =H11 -> 0 | I10: =I11 -> 0 | J10: =J11 -> 0
A11: 20502 | D11: 普通教育 | E11: =SUM(F11:J11) -> 183.61 | F11: =F12 -> 183.61 | G11: =G12 -> 0 | H11: =H12 -> 0 | I11: =I12 -> 0 | J11: =J12 -> 0
A12: 2050299 | D12: 其他普通教育支出 | E12: =SUM(F12:J12) -> 183.61 | F12: =1836100/10000 -> 183.61 | G12: 0 | H12: 0 | I12: 0 | J12: 0
A13: 208 | D13: 社会保障和就业支出 | E13: =SUM(F13:J13) -> 373.85139 | F13: =F14+F16+F18 -> 373.85139 | G13: =G14 -> 0 | H13: =H14 -> 0 | I13: =I14 -> 0 | J13: =J14 -> 0
A14: 20805 | D14: 行政事业单位养老支出 | E14: =SUM(F14:J14) -> 335.25722 | F14: =F15 -> 335.25722 | G14: =G15 -> 0 | H14: =H15 -> 0 | I14: =I15 -> 0 | J14: =J15 -> 0
A15: 2080505 | D15: 机关事业单位基本养老保险缴费支出 | E15: =SUM(F15:J15) -> 335.25722 | F15: =3352572.16/10000 -> 335.25722 | G15: 0 | H15: 0 | I15: 0 | J15: 0
A16: 20808 | D16: 抚恤 | E16: =SUM(F16:J16) -> 17.6406 | F16: =F17 -> 17.6406 | G16: =G17 -> 0 | H16: =H17 -> 0 | I16: =I17 -> 0 | J16: =J17 -> 0
A17: 2080801 | D17: 死亡抚恤 | E17: =SUM(F17:J17) -> 17.6406 | F17: =176406/10000 -> 17.6406 | G17: 0 | H17: 0 | I17: 0 | J17: 0
A18: 20899 | D18: 其他社会保障和就业支出 | E18: =SUM(F18:J18) -> 20.953576 | F18: =F19 -> 20.953576 | G18: =G19 -> 0 | H18: =H19 -> 0 | I18: =I19 -> 0 | J18: =J19 -> 0
A19: 2089999 | D19: 其他社会保障和就业支出 | E19: =SUM(F19:J19) -> 20.953576 | F19: =209535.76/10000 -> 20.953576 | G19: 0 | H19: 0 | I19: 0 | J19: 0
A20: 210 | D20: 卫生健康支出 | E20: =SUM(F20:J20) -> 199.05897 | F20: =F21 -> 199.05897 | G20: =G21 -> 0 | H20: =H21 -> 0 | I20: =I21 -> 0 | J20: =J21 -> 0
A21: 21011 | D21: 行政事业单位医疗 | E21: =SUM(F21:J21) -> 199.05897 | F21: =F22+F23 -> 199.05897 | G21: =G22 -> 0 | H21: =H22 -> 0 | I21: =I22 -> 0 | J21: =J22 -> 0
A22: 2101101 | D22: 行政单位医疗 | E22: =SUM(F22:J22) -> 178.10539 | F22: =1781053.93/10000 -> 178.10539 | G22: 0 | H22: 0 | I22: 0 | J22: 0
A23: 2101103 | D23: 公务员医疗补助 | E23: =SUM(F23:J23) -> 20.953576 | F23: =209535.76/10000 -> 20.953576 | G23: 0 | H23: 0 | I23: 0 | J23: 0
A24: 212 | D24: 城乡社区支出 | E24: =SUM(F24:J24) -> 539.69796 | F24: =F25 -> 118.57221 | G24: =G25 -> 421.12575 | H24: =H25 -> 0 | I24: =I25 -> 0 | J24: =J25 -> 0
A25: 21208 | D25: 国有土地使用权出让收入安排的支出 | E25: =SUM(F25:J25) -> 539.69796 | F25: =SUM(F26:F27) -> 118.57221 | G25: =SUM(G26:G27) -> 421.12575 | H25: =SUM(H26:H27) -> 0 | I25: =SUM(I26:I27) -> 0 | J25: =SUM(J26:J27) -> 0
A26: 2120802 | D26: 土地开发支出 | E26: =SUM(F26:J26) -> 66.728122 | F26: =667281.22/10000 -> 66.728122 | G26: 0 | H26: 0 | I26: 0 | J26: 0
A27: 2120899 | D27: 其他国有土地使用权出让收入安排的支出 | E27: =SUM(F27:J27) -> 472.96984 | F27: =518440.9/10000 -> 51.84409 | G27: =4211257.5/10000 -> 421.12575 | H27: 0 | I27: 0 | J27: 0
A28: 220 | D28: 自然资源海洋气象等支出 | E28: =SUM(F28:J28) -> 5522.3167 | F28: =F29 -> 4041.3107 | G28: =G29 -> 1481.006 | H28: =H29 -> 0 | I28: =I29 -> 0 | J28: =J29 -> 0
A29: 22001 | D29: 自然资源事务 | E29: =SUM(F29:J29) -> 5522.3167 | F29: =SUM(F30:F33) -> 4041.3107 | G29: =SUM(G30:G33) -> 1481.006 | H29: =SUM(H30:H33) -> 0 | I29: =SUM(I30:I33) -> 0 | J29: =SUM(J30:J33) -> 0
A30: 2200101 | D30: 行政运行 | E30: =SUM(F30:J30) -> 3114.0908 | F30: =31140908.04/10000 -> 3114.0908 | G30: 0 | H30: 0 | I30: 0 | J30: 0
A31: 2200104 | D31: 自然资源规划及管理 | E31: =SUM(F31:J31) -> 357 | F31: =2000/10000 -> 0.2 | G31: =3568000/10000 -> 356.8 | H31: 0 | I31: 0 | J31: 0
A32: 2200106 | D32: 自然资源利用与保护 | E32: =SUM(F32:J32) -> 159.5861 | F32: 0 | G32: =1595861/10000 -> 159.5861 | H32: 0 | I32: 0 | J32: 0
A33: 2200199 | D33: 其他自然资源事务支出 | E33: =SUM(F33:J33) -> 1891.6398 | F33: =9270198.9/10000 -> 927.01989 | G33: =9646198.8/10000 -> 964.61988 | H33: 0 | I33: 0 | J33: 0
A34: 221 | D34: 住房保障支出 | E34: =SUM(F34:J34) -> 251.44291 | F34: =F35 -> 251.44291 | G34: =G35 -> 0 | H34: =H35 -> 0 | I34: =I35 -> 0 | J34: =J35 -> 0
A35: 22102 | D35: 住房改革支出 | E35: =SUM(F35:J35) -> 251.44291 | F35: =F36 -> 251.44291 | G35: =G36 -> 0 | H35: =H36 -> 0 | I35: =I36 -> 0 | J35: =J36 -> 0
A36: 2210201 | D36: 住房公积金 | E36: =SUM(F36:J36) -> 251.44291 | F36: =2514429.07/10000 -> 251.44291 | G36: 0 | H36: 0 | I36: 0 | J36: 0
A37: 223 | D37: 国有资本经营预算支出 | E37: =SUM(F37:J37) -> 10 | F37: =F38 -> 0 | G37: =G38 -> 10 | H37: =H38 -> 0 | I37: =I38 -> 0 | J37: =J38 -> 0
A38: 22399 | D38: 其他国有资本经营预算支出 | E38: =SUM(F38:J38) -> 10 | F38: =F39 -> 0 | G38: =G39 -> 10 | H38: =H39 -> 0 | I38: =I39 -> 0 | J38: =J39 -> 0
A39: 2239999 | D39: 其他国有资本经营预算支出 | E39: =SUM(F39:J39) -> 10 | F39: 0 | G39: =100000/10000 -> 10 | H39: 0 | I39: 0 | J39: 0
A40: 224 | D40: 灾害防治及应急管理支出 | E40: =SUM(F40:J40) -> 127 | F40: =F41 -> 0 | G40: =G41 -> 127 | H40: =H41 -> 0 | I40: =I41 -> 0 | J40: =J41 -> 0
A41: 22406 | D41: 自然灾害防治 | E41: =SUM(F41:J41) -> 127 | F41: =F42 -> 0 | G41: =G42 -> 127 | H41: =H42 -> 0 | I41: =I42 -> 0 | J41: =J42 -> 0
A42: 2240601 | D42: 地质灾害防治 | E42: =SUM(F42:J42) -> 127 | F42: =0/10000 -> 0 | G42: =1270000/10000 -> 127 | H42: 0 | I42: 0 | J42: 0
...

Sheet 财政拨款收入支出决算总表
A1: 财政拨款收入支出决算总表 | D1: 财政拨款收入支出决算总表
I2: 公开04表
A3: =支出决算表!A3 -> 部门：岳阳县自然资源局 | I3: 金额单位：万元
A4: 收 入 | D4: 支 出
A5: 项目 | B5: 行次 | C5: 金额 | D5: 项目 | E5: 行次 | F5: 合计 | G5: 一般公共预算财政拨款 | H5: 政府性基金预算财政拨款 | I5: 国有资本经营预算财政拨款
F6: 小计 | G6: 一般公共预算财政拨款 | H6: 政府性基金预算财政拨款
A7: 栏次 | C7: 1 | D7: 栏次 | F7: 2 | G7: 3 | H7: 4 | I7: 5
A8: 一、一般公共预算财政拨款 | B8: 1 | C8: =一般公共预算财政拨款支出决算表!E9 -> 6657.2799 | D8: 一、一般公共服务支出 | E8: 33 | F8: =SUM(G8:I8) -> 0 | G8: 0 | H8: 0 | I8: 0
A9: 二、政府性基金预算财政拨款 | B9: 2 | C9: =政府性基金预算财政拨款收入支出决算表!F7 -> 848.76716 | D9: 二、外交支出 | E9: 34 | F9: =SUM(G9:I9) -> 0 | G9: 0 | H9: 0 | I9: 0
A10: 三、国有资本经营财政拨款 | B10: 3 | C10: =国有资本经营预算财政拨款支出决算表!E9 -> 10 | D10: 三、国防支出 | E10: 35 | F10: =SUM(G10:I10) -> 0 | G10: 0 | H10: 0 | I10: 0
B11: 4 | D11: 四、公共安全支出 | E11: 36 | F11: =SUM(G11:I11) -> 0 | G11: 0 | H11: 0 | I11: 0
B12: 5 | D12: 五、教育支出 | E12: 37 | F12: =SUM(G12:I12) -> 183.61 | G12: =一般公共预算财政拨款支出决算表!E10 -> 183.61 | H12: 0 | I12: 0
B13: 6 | D13: 六、科学技术支出 | E13: 38 | F13: =SUM(G13:I13) -> 0 | G13: 0 | H13: 0 | I13: 0
B14: 7 | D14: 七、文化旅游体育与传媒支出 | E14: 39 | F14: =SUM(G14:I14) -> 0 | G14: 0 | H14: 0 | I14: 0
B15: 8 | D15: 八、社会保障和就业支出 | E15: 40 | F15: =SUM(G15:I15) -> 373.85139 | G15: =一般公共预算财政拨款支出决算表!E13 -> 373.85139 | H15: 0 | I15: 0
B16: 9 | D16: 九、卫生健康支出 | E16: 41 | F16: =SUM(G16:I16) -> 199.05897 | G16: =一般公共预算财政拨款支出决算表!E20 -> 199.05897 | H16: 0 | I16: 0
B17: 10 | D17: 十、节能环保支出 | E17: 42 | F17: =SUM(G17:I17) -> 0 | G17: 0 | H17: 0 | I17: 0
B18: 11 | D18: 十一、城乡社区支出 | E18: 43 | F18: =SUM(G18:I18) -> 848.76716 | G18: 0 | H18: =政府性基金预算财政拨款收入支出决算表!G7 -> 848.76716 | I18: 0
B19: 12 | D19: 十二、农林水支出 | E19: 44 | F19: =SUM(G19:I19) -> 0 | G19: 0 | H19: 0 | I19: 0
B20: 13 | D20: 十三、交通运输支出 | E20: 45 | F20: =SUM(G20:I20) -> 0 | G20: 0 | H20: 0 | I20: 0
B21: 14 | D21: 十四、资源勘探工业信息等支出 | E21: 46 | F21: =SUM(G21:I21) -> 0 | G21: 0 | H21: 0 | I21: 0
B22: 15 | D22: 十五、商业服务业等支出 | E22: 47 | F22: =SUM(G22:I22) -> 0 | G22: 0 | H22: 0 | I22: 0
B23: 16 | D23: 十六、金融支出 | E23: 48 | F23: =SUM(G23:I23) -> 0 | G23: 0 | H23: 0 | I23: 0
B24: 17 | D24: 十七、援助其他地区支出 | E24: 49 | F24: =SUM(G24:I24) -> 0 | G24: 0 | H24: 0 | I24: 0
B25: 18 | D25: 十八、自然资源海洋气象等支出 | E25: 50 | F25: =SUM(G25:I25) -> 5522.3167 | G25: =一般公共预算财政拨款支出决算表!E24 -> 5522.3167 | H25: 0 | I25: 0
B26: 19 | D26: 十九、住房保障支出 | E26: 51 | F26: =SUM(G26:I26) -> 251.44291 | G26: =一般公共预算财政拨款支出决算表!E30 -> 251.44291 | H26: 0 | I26: 0
B27: 20 | D27: 二十、粮油物资储备支出 | E27: 52 | F27: =SUM(G27:I27) -> 0 | G27: 0 | H27: 0 | I27: 0
B28: 21 | D28: 二十一、国有资本经营预算支出 | E28: 53 | F28: =SUM(G28:I28) -> 10 | G28: 0 | H28: 0 | I28: =国有资本经营预算财政拨款支出决算表!E10 -> 10
B29: 22 | D29: 二十二、灾害防治及应急管理支出 | E29: 54 | F29: =SUM(G29:I29) -> 127 | G29: =一般公共预算财政拨款支出决算表!E33 -> 127 | H29: 0 | I29: 0
B30: 23 | D30: 二十三、其他支出 | E30: 55 | F30: =SUM(G30:I30) -> 0 | G30: 0 | H30: 0 | I30: 0
B31: 24 | D31: 二十四、债务还本支出 | E31: 56 | F31: =SUM(G31:I31) -> 0 | G31: 0 | H31: 0 | I31: 0
B32: 25 | D32: 二十五、债务付息支出 | E32: 57 | F32: =SUM(G32:I32) -> 0 | G32: 0 | H32: 0 | I32: 0
B33: 26 | D33: 二十六、抗疫特别国债安排的支出 | E33: 58 | F33: =SUM(G33:I33) -> 0 | G33: 0 | H33: 0 | I33: 0
A34: 本年收入合计 | B34: 27 | C34: =SUM(C8:C33) -> 7516.0471 | D34: 本年支出合计 | E34: 59 | F34: =SUM(G34:I34) -> 7516.0471 | G34: =SUM(G8:G33) -> 6657.2799 | H34: =SUM(H8:H33) -> 848.76716 | I34: =SUM(I8:I33) -> 10
A35: 年初财政拨款结转和结余 | B35: 28 | D35: 年末财政拨款结转和结余 | E35: 60
A36: 一般公共预算财政拨款 | B36: 29 | E36: 61
A37: 政府性基金预算财政拨款 | B37: 30 | E37: 62
A38: 国有资本经营预算财政拨款 | B38: 31 | E38: 63
A39: 总计 | B39: 32 | D39: 总计 | E39: 64 | F39: =SUM(F34:F38) -> 7516.0471 | G39: =SUM(G34:G38) -> 6657.2799 | H39: =SUM(H34:H38) -> 848.76716 | I39: =SUM(I34:I38) -> 10
A40: 注：本表反映部门本年度一般公共预算财政拨款、政府性基金预算财政拨款和国有资本经营预算财政拨款的总收支和年末结转结余情况。
...

Sheet 一般公共预算财政拨款支出决算表
A1: 一般公共预算财政拨款支出决算表 | E1: 一般公共预算财政拨款支出决算表
G2: 公开05表
A3: =财政拨款收入支出决算总表!A3 -> 部门：岳阳县自然资源局 | G3: 金额单位：万元
A4: 项目 | D4: 科目名称 | E4: 本年支出
A5: 功能分类科目编码 | D5: 科目名称 | E5: 小计 | F5: 基本支出 | G5: 项目支出
F6: 小计 | G6: 小计
A8: 栏次 | B8: 款 | C8: 项 | D8: 栏次 | E8: 1 | F8: 2 | G8: 3
A9: 合计 | D9: 合计 | E9: =F9+G9 -> 6657.2799 | F9: =F13+F20+F24+F30+F33+F10 -> 5049.274 | G9: =G13+G20+G24+G30+G33+G10 -> 1608.006
A10: 205 | D10: 教育支出 | E10: =F10+G10 -> 183.61 | F10: =F11 -> 183.61 | G10: =G11 -> 0
A11: 20502 | D11: 普通教育 | E11: =F11+G11 -> 183.61 | F11: =F12 -> 183.61 | G11: =G12 -> 0
A12: 2050299 | D12: 其他普通教育支出 | E12: =F12+G12 -> 183.61 | F12: =1836100/10000 -> 183.61 | G12: =0/10000 -> 0
A13: 208 | D13: 社会保障和就业支出 | E13: =F13+G13 -> 373.85139 | F13: =F14+F16+F18 -> 373.85139 | G13: =G14+G16+G18 -> 0
A14: 20805 | D14: 行政事业单位养老支出 | E14: =F14+G14 -> 335.25721 | F14: =F15 -> 335.25721 | G14: =G15 -> 0
A15: 2080505 | D15: 机关事业单位基本养老保险缴费支出 | E15: =F15+G15 -> 335.25721 | F15: =3352572.1/10000 -> 335.25721 | G15: 0
A16: 20808 | D16: 抚恤 | E16: =F16+G16 -> 17.6406 | F16: =F17 -> 17.6406 | G16: =G17 -> 0
A17: 2080801 | D17: 死亡抚恤 | E17: =F17+G17 -> 17.6406 | F17: =176406/10000 -> 17.6406 | G17: 0
A18: 20899 | D18: 其他社会保障和就业支出 | E18: =F18+G18 -> 20.953576 | F18: =F19 -> 20.953576 | G18: =G19 -> 0
A19: 2089999 | D19: 其他社会保障和就业支出 | E19: =F19+G19 -> 20.953576 | F19: =209535.76/10000 -> 20.953576 | G19: 0
A20: 210 | D20: 卫生健康支出 | E20: =F20+G20 -> 199.05897 | F20: =F21 -> 199.05897 | G20: =G21 -> 0
A21: 21011 | D21: 行政事业单位医疗 | E21: =F21+G21 -> 199.05897 | F21: =F22+F23 -> 199.05897 | G21: =G22 -> 0
A22: 2101101 | D22: 行政单位医疗 | E22: =F22+G22 -> 178.10539 | F22: =1781053.93/10000 -> 178.10539 | G22: 0
A23: 2101103 | D23: 公务员医疗补助 | E23: =F23+G23 -> 20.953576 | F23: =209535.76/10000 -> 20.953576 | G23: 0
A24: 220 | D24: 自然资源海洋气象等支出 | E24: =F24+G24 -> 5522.3167 | F24: =F25 -> 4041.3107 | G24: =G25 -> 1481.006
A25: 22001 | D25: 自然资源事务 | E25: =F25+G25 -> 5522.3167 | F25: =SUM(F26:F29) -> 4041.3107 | G25: =SUM(G26:G29) -> 1481.006
A26: 2200101 | D26: 行政运行 | E26: =F26+G26 -> 3114.0908 | F26: =31140908.04/10000 -> 3114.0908 | G26: 0
A27: 2200104 | D27: 自然资源规划及管理 | E27: =F27+G27 -> 357 | F27: =2000/10000 -> 0.2 | G27: =3568000/10000 -> 356.8
A28: 2200106 | D28: 自然资源利用与保护 | E28: =F28+G28 -> 159.5861 | F28: 0 | G28: =1595861/10000 -> 159.5861
A29: 2200199 | D29: 其他自然资源事务支出 | E29: =F29+G29 -> 1891.6398 | F29: =9270198.9/10000 -> 927.01989 | G29: =9646198.8/10000 -> 964.61988
A30: 221 | D30: 住房保障支出 | E30: =F30+G30 -> 251.44291 | F30: =F31 -> 251.44291 | G30: =G31 -> 0
A31: 22102 | D31: 住房改革支出 | E31: =F31+G31 -> 251.44291 | F31: =F32 -> 251.44291 | G31: =G32 -> 0
A32: 2210201 | D32: 住房公积金 | E32: =F32+G32 -> 251.44291 | F32: =2514429.07/10000 -> 251.44291 | G32: 0
A33: 224 | D33: 灾害防治及应急管理支出 | E33: =F33+G33 -> 127 | F33: =F34 -> 0 | G33: =G34 -> 127
A34: 22406 | D34: 自然灾害防治 | E34: =F34+G34 -> 127 | F34: =F35 -> 0 | G34: =G35 -> 127
A35: 2240601 | D35: 地质灾害防治 | E35: =F35+G35 -> 127 | F35: 0 | G35: =1270000/10000 -> 127
A36: 注：本表反映部门本年度一般公共预算财政拨款支出情况。
E38: — 5.%d —

Sheet 一般公共预算财政拨款基本支出决算表
A1: 一般公共预算财政拨款基本支出决算表 | E1: 一般公共预算财政拨款基本支出决算表
I2: 公开06表
A3: =一般公共预算财政拨款支出决算表!A3 -> 部门：岳阳县自然资源局 | I3: 金额单位：万元
A4: 人员经费 | D4: 公用经费
A5: 经济分类科目编码 | B5: 科目名称 | C5: 决算数 | D5: 经济分类科目编码 | E5: 科目名称 | F5: 决算数 | G5: 经济分类科目编码 | H5: 科目名称 | I5: 决算数
A7: 301 | B7: 工资福利支出 | C7: =SUM(C8:C20) -> 3980.6035 | D7: 302 | E7: 商品和服务支出 | F7: =SUM(F8:F34) -> 955.04578 | G7: 307 | H7: 债务利息及费用支出
A8: 30101 | B8: 基本工资 | C8: =16501761.82/10000 -> 1650.1762 | D8: 30201 | E8: 办公费 | F8: =1183375.21/10000 -> 118.33752 | G8: 30701 | H8: 国内债务付息
A9: 30102 | B9: 津贴补贴 | C9: =10643256.85/10000 -> 1064.3257 | D9: 30202 | E9: 印刷费 | F9: =379130.2/10000 -> 37.91302 | G9: 30702 | H9: 国外债务付息
A10: 30103 | B10: 奖金 | C10: =630906.48/10000 -> 63.090648 | D10: 30203 | E10: 咨询费 | F10: 0 | G10: 310 | H10: 资本性支出 | I10: =SUM(I11:I26) -> 17.1329
A11: 30106 | B11: 伙食补助费 | C11: =100800/10000 -> 10.08 | D11: 30204 | E11: 手续费 | F11: 0 | G11: 31001 | H11: 房屋建筑物购建
A12: 30107 | B12: 绩效工资 | C12: =1817885.91/10000 -> 181.78859 | D12: 30205 | E12: 水费 | F12: =40067.96/10000 -> 4.006796 | G12: 31002 | H12: 办公设备购置 | I12: =171329/10000 -> 17.1329
A13: 30108 | B13: 机关事业单位基本养老保险缴费 | C13: =3985763.41/10000 -> 398.57634 | D13: 30206 | E13: 电费 | F13: =224321.26/10000 -> 22.432126 | G13: 31003 | H13: 专用设备购置 | I13: 0
A14: 30109 | B14: 职业年金缴费 | C14: =212244.4/10000 -> 21.22444 | D14: 30207 | E14: 邮电费 | F14: =61611/10000 -> 6.1611 | G14: 31005 | H14: 基础设施建设
A15: 30110 | B15: 职工基本医疗保险缴费 | C15: =2048747.95/10000 -> 204.8748 | D15: 30208 | E15: 取暖费 | F15: 0 | G15: 31006 | H15: 大型修缮
A16: 30111 | B16: 公务员医疗补助缴费 | C16: =276073.66/10000 -> 27.607366 | D16: 30209 | E16: 物业管理费 | F16: =1911049/10000 -> 191.1049 | G16: 31007 | H16: 信息网络及软件购置更新
A17: 30112 | B17: 其他社会保障缴费 | C17: =124757.43/10000 -> 12.475743 | D17: 30211 | E17: 差旅费 | F17: =407557.5/10000 -> 40.75575 | G17: 31008 | H17: 物资储备
A18: 30113 | B18: 住房公积金 | C18: =3226691.68/10000 -> 322.66917 | D18: 30212 | E18: 因公出国（境）费用 | F18: 0 | G18: 31009 | H18: 土地补偿
A19: 30114 | B19: 医疗费 | C19: =165545.17/10000 -> 16.554517 | D19: 30213 | E19: 维修（护）费 | F19: =363770.11/10000 -> 36.377011 | G19: 31010 | H19: 安置补助
A20: 30199 | B20: 其他工资福利支出 | C20: =71600/10000 -> 7.16 | D20: 30214 | E20: 租赁费 | F20: =86000/10000 -> 8.6 | G20: 31011 | H20: 地上附着物和青苗补偿
A21: 303 | B21: 对个人和家庭的补助 | C21: =SUM(C22:C33) -> 96.4918 | D21: 30215 | E21: 会议费 | F21: =18882/10000 -> 1.8882 | G21: 31012 | H21: 拆迁补偿
A22: 30301 | B22: 离休费 | C22: 0 | D22: 30216 | E22: 培训费 | F22: =52914/10000 -> 5.2914 | G22: 31013 | H22: 公务用车购置
A23: 30302 | B23: 退休费 | C23: =755392/10000 -> 75.5392 | D23: 30217 | E23: 公务接待费 | F23: =140358/10000 -> 14.0358 | G23: 31019 | H23: 其他交通工具购置
A24: 30303 | B24: 退职（役）费 | C24: 0 | D24: 30218 | E24: 专用材料费 | F24: 0 | G24: 31021 | H24: 文物和陈列品购置
A25: 30304 | B25: 抚恤金 | C25: =209526/10000 -> 20.9526 | D25: 30224 | E25: 被装购置费 | F25: 0 | G25: 31022 | H25: 无形资产购置
A26: 30305 | B26: 生活补助 | C26: 0 | D26: 30225 | E26: 专用燃料费 | F26: 0 | G26: 31099 | H26: 其他资本性支出
A27: 30306 | B27: 救济费 | C27: 0 | D27: 30226 | E27: 劳务费 | F27: =78041/10000 -> 7.8041 | G27: 399 | H27: 其他支出
A28: 30307 | B28: 医疗费补助 | C28: 0 | D28: 30227 | E28: 委托业务费 | F28: =1510815.33/10000 -> 151.08153 | G28: 39907 | H28: 国家赔偿费用支出
A29: 30308 | B29: 助学金 | C29: 0 | D29: 30228 | E29: 工会经费 | F29: =1246090.89/10000 -> 124.60909 | G29: 39908 | H29: 对民间非营利组织和群众性自治组织补贴
A30: 30309 | B30: 奖励金 | C30: 0 | D30: 30229 | E30: 福利费 | F30: =91218/10000 -> 9.1218 | G30: 39909 | H30: 经常性赠与
A31: 30310 | B31: 个人农业生产补贴 | C31: 0 | D31: 30231 | E31: 公务用车运行维护费 | F31: 0 | G31: 39910 | H31: 资本性赠与
A32: 30311 | B32: 代缴社会保险费 | C32: 0 | D32: 30239 | E32: 其他交通费用 | F32: =302644.48/10000 -> 30.264448 | G32: 39999 | H32: 其他支出
A33: 30399 | B33: 其他对个人和家庭的补助 | C33: 0 | D33: 30240 | E33: 税金及附加费用 | F33: =18748.17/10000 -> 1.874817
D34: 30299 | E34: 其他商品和服务支出 | F34: =1433863.69/10000 -> 143.38637
A35: 人员经费合计 | C35: =C7+C21 -> 4077.0953 | D35: 公用经费合计 | I35: =F7+I10 -> 972.17868
A36: 注：本表反映部门本年度一般公共预算财政拨款基本支出明细情况。
E38: — 6 —

Sheet 政府性基金预算财政拨款收入支出决算表
A1: 政府性基金预算财政拨款收入支出决算表 | F1: 政府性基金预算财政拨款收入支出决算表
J2: 公开07表
A3: =一般公共预算财政拨款基本支出决算表!A3 -> 部门：岳阳县自然资源局 | J3: 金额单位：万元
A4: 项 目 | D4: 科目名称 | E4: 年初结转和结余 | F4: 本年收入 | G4: 本年支出 | J4: 年末结转和结余
A5: 功能分类科目编码 | D5: 科目名称 | E5: 合计 | F5: 合计 | G5: 小计 | H5: 基本支出 | I5: 项目支出 | J5: 合计
A6: 栏 次 | B6: 款 | C6: 项 | D6: 栏次 | E6: 1 | F6: 2 | G6: 3 | H6: 4 | I6: 5 | J6: 6
A7: 合 计 | D7: 合计 | E7: 0 | F7: =F8+F12 -> 848.76716 | G7: =H7+I7 -> 848.76716 | H7: =H8+H12 -> 208.78221 | I7: =I8+I12 -> 639.98495 | J7: 0
A8: 212 | D8: 城乡社区支出 | E8: 0 | F8: =F9 -> 539.69796 | G8: =H8+I8 -> 539.69796 | H8: =H9 -> 118.57221 | I8: =I9 -> 421.12575 | J8: 0
A9: 21208 | D9: 国有土地使用权出让收入安排的支出 | E9: 0 | F9: =SUM(F10:F11) -> 539.69796 | G9: =H9+I9 -> 539.69796 | H9: =SUM(H10:H11) -> 118.57221 | I9: =SUM(I10:I11) -> 421.12575 | J9: 0
A10: 2120802 | D10: 土地开发支出 | E10: 0 | F10: =667281.22/10000 -> 66.728122 | G10: =H10+I10 -> 66.728122 | H10: =667281.22/10000 -> 66.728122 | I10: =0/10000 -> 0 | J10: 0
A11: 2120899 | D11: 其他国有土地使用权出让收入安排的支出 | E11: 0 | F11: =4729698.4/10000 -> 472.96984 | G11: =H11+I11 -> 472.96984 | H11: =518440.9/10000 -> 51.84409 | I11: =4211257.5/10000 -> 421.12575 | J11: 0
A12: 229 | D12: 其他支出 | E12: 0 | F12: =F13 -> 309.0692 | G12: =H12+I12 -> 309.0692 | H12: =H13 -> 90.21 | I12: =I13 -> 218.8592 | J12: 0
A13: 22904 | D13: 其他政府性基金及对应专项债务收入安排的支出 | E13: 0 | F13: =F14 -> 309.0692 | G13: =H13+I13 -> 309.0692 | H13: =H14 -> 90.21 | I13: =I14 -> 218.8592 | J13: 0
A14: 2290401 | D14: 其他政府性基金安排的支出 | E14: 0 | F14: =3090692/10000 -> 309.0692 | G14: =H14+I14 -> 309.0692 | H14: =902100/10000 -> 90.21 | I14: =2188592/10000 -> 218.8592 | J14: 0
A15: 注：本表反映部门本年度政府性基金预算财政拨款收入、支出及结转和结余情况。

Sheet 国有资本经营预算财政拨款支出决算表
A1: 国有资本经营预算财政拨款支出决算表 | E1: 国有资本经营预算财政拨款支出决算表
G2: 公开08表
A3: =政府性基金预算财政拨款收入支出决算表!A3 -> 部门：岳阳县自然资源局 | G3: 金额单位：万元
A4: 项目 | D4: 科目名称 | E4: 本年支出
A5: 功能分类科目编码 | D5: 科目名称 | E5: 合计 | F5: 基本支出 | G5: 项目支出
D7: 科目名称
A8: 栏次 | B8: 款 | C8: 项 | D8: 栏次 | E8: 3
A9: 合计 | D9: 合计 | E9: =F9+G9 -> 10 | F9: 0 | G9: =G10 -> 10
A10: 223 | D10: 国有资本经营预算支出 | E10: =F10+G10 -> 10 | G10: =G11 -> 10
A11: 22399 | D11: 其他国有资本经营预算支出 | E11: =F11+G11 -> 10 | G11: =G12 -> 10
A12: 2239999 | D12: 其他国有资本经营预算支出 | E12: =F12+G12 -> 10 | G12: =100000/10000 -> 10
A16: 注：本表反映部门本年度国有资本经营预算财政拨款收入、支出及结转和结余情况。
E20: — 8.%d —

Sheet 财政拨款“三公"经费支出决算表
A1: 财政拨款“三公"经费支出决算表 | G1: 财政拨款“三公"经费支出决算表
L2: 公开09表
A3: =国有资本经营预算财政拨款支出决算表!A3 -> 部门：岳阳县自然资源局 | L3: 金额单位：万元
A4: 预算数 | D4: 公用经费 | G4: 决算数
A5: 合计 | B5: 因公出国（境）费 | C5: 公务用车购置及运行费 | D5: 经济分类科目编码 | E5: 科目名称 | F5: 公务接待费 | G5: 合计 | H5: 因公出国（境）费 | I5: 公务用车购置及运行费 | L5: 公务接待费
A6: 301 | B6: 工资福利支出 | C6: 小计 | D6: 公务用车购置费 | E6: 公务用车运行费 | I6: 小计 | J6: 公务用车购置费 | K6: 公务用车运行费
A7: 1 | B7: 2 | C7: 3 | D7: 4 | E7: 5 | F7: 6 | G7: 7 | H7: 8 | I7: 9 | J7: 10 | K7: 11 | L7: 12
A8: =B8+C8+F8 -> 14.57 | B8: 0 | C8: =D8+E8 -> 0 | D8: 0 | E8: 0 | F8: =145700/10000 -> 14.57 | G8: =H8+I8+L8 -> 14.0358 | H8: 0 | I8: =J8+K8 -> 0 | J8: 0 | K8: 0 | L8: =140358/10000 -> 14.0358
A9: 注：本表反映部门本年度“三公”经费支出预决算情况。其中，预算数为“三公”经费全年预算数，反映按规定程序调整后的预算数；决算数是包括当年财政拨款和以前年度结转资金安排的实际支出。
G12: — 9 —
